BEGIN:VCALENDAR
VERSION:2.0
PRODID:-//PowerLift Doors - ECPv6.15.20//NONSGML v1.0//EN
CALSCALE:GREGORIAN
METHOD:PUBLISH
X-WR-CALNAME:PowerLift Doors
X-ORIGINAL-URL:https://powerliftdoors.com
X-WR-CALDESC:Events for PowerLift Doors
REFRESH-INTERVAL;VALUE=DURATION:PT1H
X-Robots-Tag:noindex
X-PUBLISHED-TTL:PT1H
BEGIN:VTIMEZONE
TZID:America/Chicago
BEGIN:DAYLIGHT
TZOFFSETFROM:-0600
TZOFFSETTO:-0500
TZNAME:CDT
DTSTART:20240310T080000
END:DAYLIGHT
BEGIN:STANDARD
TZOFFSETFROM:-0500
TZOFFSETTO:-0600
TZNAME:CST
DTSTART:20241103T070000
END:STANDARD
BEGIN:DAYLIGHT
TZOFFSETFROM:-0600
TZOFFSETTO:-0500
TZNAME:CDT
DTSTART:20250309T080000
END:DAYLIGHT
BEGIN:STANDARD
TZOFFSETFROM:-0500
TZOFFSETTO:-0600
TZNAME:CST
DTSTART:20251102T070000
END:STANDARD
BEGIN:DAYLIGHT
TZOFFSETFROM:-0600
TZOFFSETTO:-0500
TZNAME:CDT
DTSTART:20260308T080000
END:DAYLIGHT
BEGIN:STANDARD
TZOFFSETFROM:-0500
TZOFFSETTO:-0600
TZNAME:CST
DTSTART:20261101T070000
END:STANDARD
BEGIN:DAYLIGHT
TZOFFSETFROM:-0600
TZOFFSETTO:-0500
TZNAME:CDT
DTSTART:20270314T080000
END:DAYLIGHT
BEGIN:STANDARD
TZOFFSETFROM:-0500
TZOFFSETTO:-0600
TZNAME:CST
DTSTART:20271107T070000
END:STANDARD
END:VTIMEZONE
BEGIN:VEVENT
DTSTART;VALUE=DATE:20250213
DTEND;VALUE=DATE:20250215
DTSTAMP:20260423T052202
CREATED:20221012T223741Z
LAST-MODIFIED:20250821T135213Z
UID:12449-1739404800-1739577599@powerliftdoors.com
SUMMARY:National Farm Machinery Show
DESCRIPTION:PowerLift Doors will be attending the National Farm Machinery Show\, showcasing their industry-leading hydraulic doors designed for agricultural and industrial applications. Attendees can explore PowerLift’s durable and custom-built door solutions\, engineered for efficiency\, reliability\, and space-saving functionality. Visit their booth to learn more about how PowerLift Doors can enhance farm and equipment storage with seamless operation and long-lasting performance.
URL:https://powerliftdoors.com/event/national-farm-machinery-show/
LOCATION:Louisville\, KY\, 937 Phillips Lane\, Louisville\, KY\, 40209
ATTACH;FMTTYPE=image/png:https://powerliftdoors.com/wp-content/uploads/2022/10/th-NATIONAL-FARM-MACHINERY-SHOW-Kentucky-24458.png
END:VEVENT
BEGIN:VEVENT
DTSTART;VALUE=DATE:20250326
DTEND;VALUE=DATE:20250328
DTSTAMP:20260423T052202
CREATED:20250303T171843Z
LAST-MODIFIED:20250303T172359Z
UID:20251-1742947200-1743119999@powerliftdoors.com
SUMMARY:Atlantic Builders Convention
DESCRIPTION:PowerLift Doors will be attending the Atlantic Builders Convention (ABC)\, the premier trade show for the building industry in the Northeast\, hosted by the New Jersey Builders Association (NJBA). This event brings together professionals from construction\, remodeling\, and design to explore the latest products\, trends\, and innovations. Attendees will have the opportunity to connect with industry leaders\, attend educational seminars\, and discover new business opportunities. Be sure to visit our booth to learn more about our high-quality\, space-saving door solutions designed to enhance efficiency and durability for a variety of building applications.
URL:https://powerliftdoors.com/event/atlantic-builders-convention/
LOCATION:Atlantic Builders Convention Hard Rock Hotel & Casino\, Atlantic City\, 1000 Boardwalk\, Atlantic City\, NJ\, 08401
ATTACH;FMTTYPE=image/jpeg:https://powerliftdoors.com/wp-content/uploads/2025/03/ABC_Logo_RGB-for-web.jpg
END:VEVENT
BEGIN:VEVENT
DTSTART;VALUE=DATE:20250414
DTEND;VALUE=DATE:20250420
DTSTAMP:20260423T052202
CREATED:20221012T224253Z
LAST-MODIFIED:20250821T134329Z
UID:12457-1744588800-1745107199@powerliftdoors.com
SUMMARY:Sun N Fun
DESCRIPTION:PowerLift Doors is thrilled to be part of the Sun ‘n Fun Aerospace Expo\, showcasing our top-quality hydraulic doors designed for hangars\, aircraft storage\, and aviation facilities. Our durable\, space-saving door solutions provide smooth\, reliable operation with custom-built designs to fit any aviation need. Stop by our booth to see how PowerLift Doors can enhance your hangar with unmatched convenience and efficiency. Whether you’re a pilot\, aircraft owner\, or aviation enthusiast\, we look forward to connecting with you at Sun ‘n Fun!
URL:https://powerliftdoors.com/event/sun-n-fun-with-powerlift-doors/
LOCATION:Lakeland\, FL\, 4075 James C. Ray Dr.\, Lakeland\, FL\, 338111
ATTACH;FMTTYPE=image/png:https://powerliftdoors.com/wp-content/uploads/2025/02/sun-and-fun-.png
END:VEVENT
BEGIN:VEVENT
DTSTART;VALUE=DATE:20250426
DTEND;VALUE=DATE:20250428
DTSTAMP:20260423T052202
CREATED:20250303T173927Z
LAST-MODIFIED:20250303T173927Z
UID:20257-1745625600-1745798399@powerliftdoors.com
SUMMARY:Philadelphia Home Show
DESCRIPTION:PowerLift Doors will be attending the Philadelphia Home Show\, showcasing our premium hydraulic door solutions designed for residential and commercial applications. Our custom-built doors offer space-saving functionality\, smooth operation\, and unmatched durability. Visit our booth to explore how PowerLift Doors can enhance your home or business with innovative\, high-quality designs. We look forward to connecting with homeowners\, builders\, and architects at the show!
URL:https://powerliftdoors.com/event/philadelphia-home-show/
LOCATION:Pennsylvania Convention Center – Hall F  1101 Arch Street\, Philadelphia\, PA 19107\, 1101 Arch Street\, Philadelphia\, PA\, 19107
ATTACH;FMTTYPE=image/jpeg:https://powerliftdoors.com/wp-content/uploads/2025/03/ACS-Home-Shows.jpg
END:VEVENT
BEGIN:VEVENT
DTSTART;VALUE=DATE:20260720
DTEND;VALUE=DATE:20260727
DTSTAMP:20260423T052202
CREATED:20230406T135945Z
LAST-MODIFIED:20250820T134244Z
UID:14594-1784505600-1785110399@powerliftdoors.com
SUMMARY:EAA Oshkosh Air Show
DESCRIPTION:PowerLift Doors is excited to announce our participation in the EAA Oshkosh Air Show in Oshkosh\, WI\, at 3000 Poberezny Road. As one of the premier aviation events\, this show provides the perfect opportunity to showcase our top-quality hydraulic doors designed for hangars\, aircraft storage\, and aviation facilities. Our durable\, space-saving door solutions offer smooth\, reliable operation and customizable designs to fit any aviation need. Visit our booth to see how PowerLift Doors can enhance your hangar with unmatched convenience and efficiency. We look forward to connecting with aviation enthusiasts\, pilots\, and industry professionals at EAA Oshkosh!
URL:https://powerliftdoors.com/event/eaa-oshkosh-air-show/
LOCATION:Oshkosh\, WI\, 3000 Poberezny Road\, Oshkosh\, WI\, 54902
ATTACH;FMTTYPE=image/jpeg:https://powerliftdoors.com/wp-content/uploads/2023/04/Logo-EAA.jpg
END:VEVENT
END:VCALENDAR